BEGIN:VCALENDAR
VERSION:2.0
PRODID:-//Tubac Historical Society - ECPv6.15.20//NONSGML v1.0//EN
CALSCALE:GREGORIAN
METHOD:PUBLISH
X-WR-CALNAME:Tubac Historical Society
X-ORIGINAL-URL:https://ths-tubac.org
X-WR-CALDESC:Events for Tubac Historical Society
REFRESH-INTERVAL;VALUE=DURATION:PT1H
X-Robots-Tag:noindex
X-PUBLISHED-TTL:PT1H
BEGIN:VTIMEZONE
TZID:America/Los_Angeles
BEGIN:DAYLIGHT
TZOFFSETFROM:-0800
TZOFFSETTO:-0700
TZNAME:PDT
DTSTART:20240310T100000
END:DAYLIGHT
BEGIN:STANDARD
TZOFFSETFROM:-0700
TZOFFSETTO:-0800
TZNAME:PST
DTSTART:20241103T090000
END:STANDARD
BEGIN:DAYLIGHT
TZOFFSETFROM:-0800
TZOFFSETTO:-0700
TZNAME:PDT
DTSTART:20250309T100000
END:DAYLIGHT
BEGIN:STANDARD
TZOFFSETFROM:-0700
TZOFFSETTO:-0800
TZNAME:PST
DTSTART:20251102T090000
END:STANDARD
BEGIN:DAYLIGHT
TZOFFSETFROM:-0800
TZOFFSETTO:-0700
TZNAME:PDT
DTSTART:20260308T100000
END:DAYLIGHT
BEGIN:STANDARD
TZOFFSETFROM:-0700
TZOFFSETTO:-0800
TZNAME:PST
DTSTART:20261101T090000
END:STANDARD
END:VTIMEZONE
BEGIN:VEVENT
DTSTART;TZID=America/Los_Angeles:20251120T153000
DTEND;TZID=America/Los_Angeles:20251120T170000
DTSTAMP:20260421T152215
CREATED:20251117T014628Z
LAST-MODIFIED:20251117T014628Z
UID:4187-1763652600-1763658000@ths-tubac.org
SUMMARY:Tubac History on Thursday Afternoon with Dan Judkins - Free!
DESCRIPTION:
URL:https://ths-tubac.org/event/tubac-history-on-thursday-11202025/
LOCATION:Customs House\, 6 Burruel\, Tubac\, AZ\, 85646\, United States
CATEGORIES:Tubac History on Thursday Afternoons
END:VEVENT
END:VCALENDAR