BEGIN:VCALENDAR
VERSION:2.0
PRODID:-//Tubac Historical Society - ECPv6.15.20//NONSGML v1.0//EN
CALSCALE:GREGORIAN
METHOD:PUBLISH
X-ORIGINAL-URL:https://ths-tubac.org
X-WR-CALDESC:Events for Tubac Historical Society
REFRESH-INTERVAL;VALUE=DURATION:PT1H
X-Robots-Tag:noindex
X-PUBLISHED-TTL:PT1H
BEGIN:VTIMEZONE
TZID:UTC
BEGIN:STANDARD
TZOFFSETFROM:+0000
TZOFFSETTO:+0000
TZNAME:UTC
DTSTART:20230101T000000
END:STANDARD
END:VTIMEZONE
BEGIN:VEVENT
DTSTART;TZID=UTC:20250329T080000
DTEND;TZID=UTC:20250329T163000
DTSTAMP:20260421T093036
CREATED:20250202T052920Z
LAST-MODIFIED:20250313T080052Z
UID:3760-1743235200-1743265800@ths-tubac.org
SUMMARY:RRHS Spring Bus Tour - Cancelled
DESCRIPTION:This event has been cancelled.  🙁
URL:https://ths-tubac.org/event/rrhs-spring-bus-tour-march-2025/
LOCATION:Rio Rico Historical Society
CATEGORIES:Rio Rico Historical Society
END:VEVENT
BEGIN:VEVENT
DTSTART;TZID=UTC:20250318T180000
DTEND;TZID=UTC:20250318T200000
DTSTAMP:20260421T093036
CREATED:20250202T043435Z
LAST-MODIFIED:20250202T043435Z
UID:3754-1742320800-1742328000@ths-tubac.org
SUMMARY:RRHS Presents:  "History of Mining in Santa Cruz County\, 1540-1946" with Guest Speaker Chuck Galloway
DESCRIPTION: 
URL:https://ths-tubac.org/event/rrhs-presents-history-of-mining-in-santa-cruz-county-1540-1946-with-guest-speaker-chuck-galloway/
LOCATION:Rio Rico Community Center\, 391 Avenida Coatimundi\, Rio Rico\, AZ\, 85648\, United States
CATEGORIES:Rio Rico Historical Society
END:VEVENT
BEGIN:VEVENT
DTSTART;TZID=UTC:20250121T180000
DTEND;TZID=UTC:20250121T190000
DTSTAMP:20260421T093036
CREATED:20250106T100528Z
LAST-MODIFIED:20250106T100638Z
UID:3656-1737482400-1737486000@ths-tubac.org
SUMMARY:Rio Rico Historical Society General Meeting
DESCRIPTION:Award Winning Writer & Speaker\, Venetia Hobson Lewis\, worked at several stock brokerages before moving to Los Angeles\, where for almost eighteen years\, she was a corporate paralegal for a motion picture studio. She has written several award-winning Western short stories. She is privileged to live near Tucson\, plans to tell more stories of the city\, the territory\, the state & the West.\nNominations for the Historical Society Board\nWe are continuting to accept nominations for the Rio Rico Historical Society Board. 5 slots open far the nominees are:\nDonna Butler\nVictor Cazares\nHeidi Daetwyler\nJanice Ranck\nIf you would like to nominate anyone additional\, please contact Helen Serras Herman (520-841-3284) or\nLarry Brown (520-841-1335) or contact the society at rioricohistoricalsociety@gmail.com\nVoting on the Rio Rico Historical Society Board will take place on January 21\, 2025 at the General Membership Meeting.\n  \n 
URL:https://ths-tubac.org/event/rrhs-2025-general-meeting/
LOCATION:Rio Rico Community Center\, 391 Avenida Coatimundi\, Rio Rico\, AZ\, 85648\, United States
CATEGORIES:Rio Rico Historical Society
ORGANIZER;CN="Rio Rico Historical Society":MAILTO:http://www.rioricohistoricalsociety.org/contact-us.html
END:VEVENT
BEGIN:VEVENT
DTSTART;TZID=UTC:20241119T140000
DTEND;TZID=UTC:20241119T160000
DTSTAMP:20260421T093036
CREATED:20241117T055552Z
LAST-MODIFIED:20241117T055928Z
UID:3565-1732024800-1732032000@ths-tubac.org
SUMMARY:Rio Rico Historical Society Annual Meeting: Doug Hocking\, "Train Wrecks of Southern Arizona"
DESCRIPTION:Rio Rico Historical Society Annual Meeting: Doug Hocking\, “Train Wrecks of Southern Arizona”\n  \nhttps://www.rioricohistoricalsociety.org/upcoming-events.html \n  \n  \n 
URL:https://ths-tubac.org/event/rio-rico-historical-society-annual-meeting-doug-hocking-train-wrecks-of-southern-arizona/
LOCATION:Rio Rico Historical Society
CATEGORIES:Rio Rico Historical Society
END:VEVENT
BEGIN:VEVENT
DTSTART;TZID=UTC:20240711T160000
DTEND;TZID=UTC:20240711T180000
DTSTAMP:20260421T093036
CREATED:20240703T085538Z
LAST-MODIFIED:20240703T085604Z
UID:3360-1720713600-1720720800@ths-tubac.org
SUMMARY:Rio Rico Historical Society's New Exhibit Opening
DESCRIPTION:New Exhibit at the Rio Rico History Museum\n\nCollecting Petrified Wood\nin Santa Cruz County\nOpening Thursday July 11\, 2024\, 4-6pm\nFREE and Open to the public\,\nRio Rico History Museum\,\n1149 West Frontage Road\, Rio Rico\n For more information visit our website: www.rioricohistoricalsociety.org
URL:https://ths-tubac.org/event/rio-rico-historical-societys-new-exhibit-opening/
LOCATION:Rio Rico Historical Society
CATEGORIES:Rio Rico Historical Society
END:VEVENT
BEGIN:VEVENT
DTSTART;TZID=UTC:20240326T180000
DTEND;TZID=UTC:20240326T200000
DTSTAMP:20260421T093036
CREATED:20240317T224222Z
LAST-MODIFIED:20240317T224222Z
UID:3238-1711476000-1711483200@ths-tubac.org
SUMMARY:Rio Rico Historical Society General Membership Meeting and History Presentation
DESCRIPTION:
URL:https://ths-tubac.org/event/rio-rico-historical-society-general-membership-meeting-and-history-presentation/
LOCATION:Rio Rico Historical Society
CATEGORIES:Rio Rico Historical Society
END:VEVENT
END:VCALENDAR