BEGIN:VCALENDAR
VERSION:2.0
PRODID:-//Tubac Historical Society - ECPv6.15.20//NONSGML v1.0//EN
CALSCALE:GREGORIAN
METHOD:PUBLISH
X-ORIGINAL-URL:https://ths-tubac.org
X-WR-CALDESC:Events for Tubac Historical Society
REFRESH-INTERVAL;VALUE=DURATION:PT1H
X-Robots-Tag:noindex
X-PUBLISHED-TTL:PT1H
BEGIN:VTIMEZONE
TZID:UTC
BEGIN:STANDARD
TZOFFSETFROM:+0000
TZOFFSETTO:+0000
TZNAME:UTC
DTSTART:20240101T000000
END:STANDARD
END:VTIMEZONE
BEGIN:VEVENT
DTSTART;TZID=UTC:20250327T150000
DTEND;TZID=UTC:20250327T170000
DTSTAMP:20260421T153934
CREATED:20250202T040937Z
LAST-MODIFIED:20250320T074541Z
UID:3740-1743087600-1743094800@ths-tubac.org
SUMMARY:"To Settle On One Out of Many: Can Individual Sixteenth Century Sites Be Successfully Discriminated Within a Wide and Busy Corridor from Sonora to Chilchilticale?"
DESCRIPTION:  \nTo Settle On One Out of Many: Can Individual Sixteenth Century Sites Be Successfully Discriminated Within a Wide and Busy Corridor from Sonora to Chilchilticale?\nRichard and Shirley Flint\nThe recent remarkable discovery of Coronado era artifacts in the Santa Cruz Valley has excited the imagination of our members and friends. The Tubac Historical Society invites you to further explore the history of Coronado with Richard and Shirley Flint who are considered to be the pre-eminent historians of the 1539-1542 Coronado Expedition. The Flints\, who have written nine books and numerous journal articles\, bring a unique expertise to their presentation.\nTickets to this event are available at www.ths-tubac.org before March 23\, 2025. The event will be held at 3:00 PM March 27th at the Tubac Golf Resort. Cost is $40 for members and $45 for non-members and includes appetizers and drinks.\n🎟️ Member Ticket $40 per person – Click here to purchase\n🎟️ Non-Member Ticket $45 per person – Click here to purchase\n🎟️ You may also send a check payable to:\nThe Tubac Historical Society\nPO Box 3261\nTubac\, AZ. 85646-3261\n🎟️ Call (520) 398-2020 to pay over the phone\nQuestions?  Email info@ths-tubac.org\nWednesday-Saturday\, 10 am to 2 pm\nRichard Flint\, Ph.D.\, and Shirley Cushing Flint\, MA\, are both historians and Spanish paleographers who have worked as a collaborative research and writing team for more than four decades. Their focus is on the early Spanish colonial period in the American Southwest and northwest Mexico\, with special interest in the Coronado expedition of 1539-1542. They have published nine books and scores of journal articles on the subject of the expedition\, its precursors\, successors\, participants\, motivations\, and consequences\, as wll as the Native peoples who were impacted by the expedition. For more than a decade in the 1990s and 2000s they served as consultants to the archaeological investigation by Wichita State University of the Jimmy Owens site in the Texas South Plains\, a major campsite of the Coronado expedition. Their work has been recognized with many awards\, including the Byron S Cummings Award from the Arizona Archaeological and Historical Society. Both are visiting faculty at the Latin American and Iberian Institute of the University of New Mexico in Albuquerque.\n \n  \n 
URL:https://ths-tubac.org/event/to-settle-on-one-out-of-many-coronado-expedition-with-the-flint/
LOCATION:Tubac Golf Resort & Spa\, 65 Avenida de Otero\, Tubac\, AZ\, 85646\, United States
CATEGORIES:History with Wine and Cheese,Wine, Cheese, and History
END:VEVENT
END:VCALENDAR