BEGIN:VCALENDAR
VERSION:2.0
PRODID:-//Tubac Historical Society - ECPv6.15.20//NONSGML v1.0//EN
CALSCALE:GREGORIAN
METHOD:PUBLISH
X-ORIGINAL-URL:https://ths-tubac.org
X-WR-CALDESC:Events for Tubac Historical Society
REFRESH-INTERVAL;VALUE=DURATION:PT1H
X-Robots-Tag:noindex
X-PUBLISHED-TTL:PT1H
BEGIN:VTIMEZONE
TZID:UTC
BEGIN:STANDARD
TZOFFSETFROM:+0000
TZOFFSETTO:+0000
TZNAME:UTC
DTSTART:20230101T000000
END:STANDARD
END:VTIMEZONE
BEGIN:VEVENT
DTSTART;TZID=UTC:20241012T100000
DTEND;TZID=UTC:20241012T160000
DTSTAMP:20260424T060017
CREATED:20240814T081535Z
LAST-MODIFIED:20240814T081535Z
UID:3364-1728727200-1728748800@ths-tubac.org
SUMMARY:Open House Family Discover Day - Free Admission!
DESCRIPTION:
URL:https://ths-tubac.org/event/open-house-family-discover-day-free-admission/
LOCATION:Tubac Presidio State Park and Griffin Museum\, 1 Burruel Street\, Tubac\, AZ\, 85646\, United States
CATEGORIES:Guided Tour
END:VEVENT
END:VCALENDAR